Workbook

Sheet งบแสดงฐานะ
B1: เทศบาลตำบลอ่าวพะยูน
B2: งบแสดงฐานะการเงิน
B3: ณ วันที่ 30 กันยายน 2561
F5: หมายเหตุ | J5: ปี 2561 | L5: ปี 2560
B6: ทรัพย์สินตามงบทรัพย์สิน | F6: 2 | J6: 43533259 | L6: ='[1] n.2งบ ทส'!F24 -> 40170909
B7: สินทรัพย์
C8: สินทรัพย์หมุนเวียน
D9: เงินสดและเงินฝากธนาคาร | F9: 3 | J9: 13361765 | L9: ='[1]n.3งส,4กสท.'!I14 -> 13958750
D10: เงินฝากกองทุน | F10: 4 | J10: 1023555.1 | L10: ='[1]n.3งส,4กสท.'!I20 -> 944176.77
D11: รายได้จากรัฐบาลค้างรับ | F11: 5 | J11: 5666370 | L11: ='[1]5,รดค้าง6,7ลูกหนี้ภาษ๊'!G6 -> 40000
D12: ลูกหนี้ค่าภาษี | F12: 6 | J12: 6190 | L12: ='[1]5,รดค้าง6,7ลูกหนี้ภาษ๊'!G18 -> 11914.781
D13: ลูกหนี้รายได้อื่น ๆ | F13: 7 | J13: 28774 | L13: ='[1]5,รดค้าง6,7ลูกหนี้ภาษ๊'!G25 -> 14044
D14: รวมสินทรัพย์หมุนเวียน | J14: =SUM(J9:J13) -> 20086654 | L14: =SUM(L9:L13) -> 14968886
C15: สินทรัพย์ไม่หมุนเวียน
D16: ทรัพย์สินเกิดจากเงินกู้ | F16: 2 | J16: 6353600 | L16: =[1]ทรัพย์สินเกิดจากเงินกู้!E14 -> 4784000
D17: รวมสินทรัพย์ไม่หมุนเวียน | J17: =SUM(J16) -> 6353600 | L17: =SUM(L16) -> 4784000
B18: รวมสินทรัพย์ | J18: =J14+J17 -> 26440254 | L18: =L14+L17 -> 19752886
B20: หมายเหตุประกอบงบแสดงฐานะการเงินเป็นส่วนหนึ่งของงบการเงินนี้
B31: ……………...….………........ | F31: ……………...….………........ | K31: ……………...….………........
B32: ผู้อำนวยการกองคลัง | F32: ปลัดเทศบาลตำบลอ่าวพะยูน | K32: นายกเทศมนตรีตำบลอ่าวพะยูน
B39: เทศบาลตำบลอ่าวพะยูน
B40: งบแสดงฐานะการเงิน
B41: ณ วันที่ 30 กันยายน 2561
F43: หมายเหตุ | J43: ปี 2561 | L43: ปี 2560
B44: ทุนทรัพย์สิน | F44: 2 | J44: 43533259 | L44: =L6 -> 40170909
B45: หนี้สิน
C46: หนี้สินหมุนเวียน
D47: ='[1]บช. 5.บก'!A29 -> รายจ่ายค้างจ่าย | F47: 8 | J47: 6682573.2 | L47: ='[1]8ค้างจ่ายกันเงิน60'!G15 -> 520909.4
D48: รายจ่ายรอจ่าย
D49: รายจ่ายผัดส่งใบสำคัญ
D50: ='[1]บช. 5.บก'!A30 -> เงินรับฝาก | F50: 9 | J50: 218765.74 | L50: =[1]n.9เงินรับฝาก!D11 -> 303766.21
D51: รวมหนี้สินหมุนเวียน | J51: =SUM(J47:J50) -> 6901338.9 | L51: =SUM(L47:L50) -> 824675.61
C52: หนี้สินไม่หมุนเวียน
D53: เจ้าหนี้เงินกู้ - กสท. | F53: 10 | J53: 1569600 | L53: 0
D54: รวมหนี้สินไม่หมุนเวียน | J54: =SUM(J53) -> 1569600 | L54: =L53 -> 0
B55: รวมหนี้สิน | J55: =J51+J54 -> 8470938.9 | L55: =L51+L54 -> 824675.61
B56: เงินสะสม
C57: เงินสะสม | F57: 11 | J57: 10218851 | L57: =[1]n.10สะสม!H13 -> 11544273
C58: เงินทุนสำรองเงินสะสม | J58: 7750463.5 | L58: =[1]เงินทุนสำรองเงินสะสม!E9 -> 7383937.3
D59: รวมเงินสะสม | J59: =SUM(J57:J58) -> 17969315 | L59: =SUM(L57:L58) -> 18928210
...

Sheet  n.2งบ ทส
B1: เทศบาลตำบลอ่าวพะยูน
B2: หมายเหตุประกอบงบแสดงฐานะการเงิน
B3: สำหรับปี สิ้นสุดวันที่ 30 กันยายน 2561
B4: หมายเหตุ 2 งบทรัพย์สิน
B5: ประเภททรัพย์สิน | F5: ราคาทรัพย์สิน | I5: แหล่งที่มาของทรัพย์สินทั้งหมด
I6: ชื่อ | J6: จำนวนเงิน
F7: 2561 | G7: 2560 | J7: 2561 | K7: 2560
B8: ก. อสังหาริมทรัพย์
C9: อาคาร | F9: 15972564 | G9: =[1]กระดาษทำการงบทรัพย์สิน!I7 -> 15435064 | I9: =[1]กระดาษทำการงบทรัพย์สิน!C24 -> เงินรายได้จากเทศบาล | J9: 38749259 | K9: 35386909
C10: ระบบประปาหมู่บ้าน | F10: 5292389 | G10: =[1]กระดาษทำการงบทรัพย์สิน!I8 -> 4155389 | I10: เงินกู้ | J10: 4784000 | K10: 4784000
C11: ที่ดิน | F11: 4464900 | G11: =[1]กระดาษทำการงบทรัพย์สิน!I9 -> 4464900
C12: ทั่วไป | F12: 1395000
B14: ข. สังหาริมทรัพย์
C15: ครุภัณฑ์ยานพาหนะและขนส่ง | F15: 9856900 | G15: =[1]กระดาษทำการงบทรัพย์สิน!I11 -> 9856900
C16: ครุภัณฑ์งานบ้านงานครัว | F16: 121500 | G16: =[1]กระดาษทำการงบทรัพย์สิน!I12 -> 112000
C17: ครุภัณฑ์สำนักงาน | F17: 2226034 | G17: =[1]กระดาษทำการงบทรัพย์สิน!I13 -> 1966484
C18: ครุภัณฑ์คอมพิวเตอร์ | F18: 1317000 | G18: =[1]กระดาษทำการงบทรัพย์สิน!I14 -> 1293200
C19: ครุภัณฑ์การเกษตร | F19: 445500 | G19: =[1]กระดาษทำการงบทรัพย์สิน!I15 -> 445500
C20: ครุภัณฑ์สำรวจ | F20: 183500 | G20: =[1]กระดาษทำการงบทรัพย์สิน!I16 -> 183500
C21: ครุภัณฑ์ไฟฟ้านและวิทยุ | F21: 622082 | G21: =[1]กระดาษทำการงบทรัพย์สิน!I17 -> 622082
C22: ครุภัณฑ์โฆษณาและเผยแพร่ | F22: 317400 | G22: =[1]กระดาษทำการงบทรัพย์สิน!I18 -> 317400
C23: ครุภัณฑ์ดับเพลิง | F23: 10500 | G23: =[1]กระดาษทำการงบทรัพย์สิน!I19 -> 10500
C24: ครุภัณฑ์กีฬา | F24: 517000 | G24: =[1]กระดาษทำการงบทรัพย์สิน!I20 -> 517000
C25: ครุภัณฑ์อื่นๆ | F25: 790990 | G25: =[1]กระดาษทำการงบทรัพย์สิน!I21 -> 790990
B27: รวม | F27: =SUM(F9:F25) -> 43533259 | G27: =SUM(G9:G26) -> 40170909 | H27: =SUM(H9:H25) -> 0 | J27: =SUM(J9:J25) -> 43533259 | K27: =SUM(K8:K26) -> 40170909 | M27: =[1]กระดาษทำการงบทรัพย์สิน!I22 -> 40170909
B32: คำอธิบาย
C33: 1 | D33: ทรัพย์สินที่ได้มาจากรายได้ เงินสะสม เงินทุนสำรองเงินสะสม เงินที่มีผู้อุทิศให้ และเงินอื่นใดยกเว้นเงินกู้ ให้แสดง
B34: ทรัพย์สินที่เป็นกรรมสิทธิ์ขององค์กรปกครองส่วนท้องถิ่นและองค์กรปกครองส่วนท้องถิ่นให้ประโยชน์โดยตรง รวมทั้งทรัพย์สิน
B35: ที่ให้ยืมหรือเช่า ยกเว้นทรัพย์สินที่จัดไว้เพื่อเป็นการให้บริการสาธารณะ เช่น ถนน สะพาน ลานกีฬา เป็นต้น
C36: 2 | D36: ทรัพย์สินที่ได้มาจากแหล่งเงินกู้ ให้แสดงทรัพย์สินทุกประเภท
D54: ทรัพย์สินที่แสดงตามงบทรัพย์สินเป็นกรรมสิทธิ์ขององค์กรปกครองส่วนท้องถิ่นและองค์กรปกครองส่วนท้องถิ่น
D55: ใช้ประโยชน์โดยตรง รวมทั้งทรัพย์สินที่ให้ยืมหรือเช่า ยกเว้นทรัพย์สินที่จัดไว้เพื่อเป็นการให้บริการสาธารณะ
D56: เช่น ถนน สะพาน ลานกีฬา เป็นต้น

Sheet n.3งส,4กสท.
A1: เทศบาลตำบลอ่าวพะยูน
A2: หมายเหตุประกอบงบแสดงฐานะการเงิน
A3: สำหรับปี สิ้นสุดวันที่ 30 กันยายน 2561
A4: หมายเหตุ 3 เงินสดและเงินฝากธนาคาร
B5: เงินสด | I5: ='[1]บช. 5.บก'!F7 -> 0
B6: เงินฝากธนาคาร | C6: ธนาคารกรุงไทย จำกัด (มหาชน) | D6: ประเภท | E6: ='[1]เงินฝากธนาคาร (2)'!D8 -> ออมทรัพย์ | F6: เลขที่ | G6: 9261060897 | I6: 5910151.6
D7: ประเภท | E7: ='[1]เงินฝากธนาคาร (2)'!D9 -> ออมทรัพย์ | F7: เลขที่ | G7: 9260233895 | I7: 6463619.6
D8: ประเภท | E8: ='[1]เงินฝากธนาคาร (2)'!D10 -> กระแสรายวัน | F8: เลขที่ | G8: 9266002917 | I8: ='[1]บช. 5.บก'!F12 -> 0
D9: ประเภท | E9: ='[1]เงินฝากธนาคาร (2)'!D11 -> กระแสรายวัน | F9: เลขที่ | G9: 9266003298 | I9: ='[1]บช. 5.บก'!F13 -> 0
C10: ='[1]บช. 5.บก'!B14 -> ธนาคารเพื่อการเกษตรและสหกรณ์การเกษตร | D10: ประเภท | E10: ='[1]บช. 5.บก'!E15 -> ออมทรัพย์ | F10: เลขที่ | G10: 014452354799 | I10: 958739.24
D11: ประเภท | E11: ='[1]บช. 5.บก'!E16 -> ออมทรัพย์ | F11: เลขที่ | G11: 014452395268 | I11: 29254.16
D12: ประเภท | E12: ='[1]บช. 5.บก'!E17 -> กระแสรายวัน | F12: เลขที่ | G12: 014455000365 | I12: ='[1]บช. 5.บก'!F17 -> 0
D13: ประเภท | E13: ='[1]บช. 5.บก'!E18 -> กระแสรายวัน | F13: เลขที่ | G13: 014455000690 | I13: ='[1]บช. 5.บก'!F18 -> 0
B14: รวม | I14: =SUM(I6:I13) -> 13361765
A37: เทศบาลตำบลอ่าวพะยูน
A38: หมายเหตุประกอบงบแสดงฐานะการเงิน
A39: สำหรับปี สิ้นสุดวันที่ 30 กันยายน 2561
A40: หมายเหตุ 4 เงินฝากกองทุน
B42: เงินฝากกองทุนส่งเสริมกิจการเทศบาล | I42: 1023555.1
B43: รวม | I43: =SUM(I42:I42) -> 1023555.1
A72: เทศบาลตำบลอ่าวพะยูน
A73: หมายเหตุประกอบงบแสดงฐานะการเงิน
A74: สำหรับปี สิ้นสุดวันที่ 30 กันยายน 2561
A75: หมายเหตุ 5 รายได้จากรัฐบาลค้างรับ
C77: ค่าก่อสร้างสิ่งสาธารณูปโภค | I77: 788000
C78: เบี้ยยังชีพคนพิการ | I78: 40000
C79: อาคารต่าง ๆ | I79: 4838370
C80: รวม | I80: =SUM(I77:I79) -> 5666370

Sheet 5,รดค้าง6,7ลูกหนี้ภาษ๊
A1: เทศบาลตำบลอ่าวพะยูน
A2: หมายเหตุประกอบงบแสดงฐานะการเงิน | N2: งบกับหมายเหตุใช้ 95%
A3: สำหรับปี สิ้นสุดวันที่ 30 กันยายน 2561 | N3: รับรอง ข้อสังเกต 100%
A5: หมายเหตุ 6 ลูกหนี้ค่าภาษี | B5: หมายเหตุ 6 ลูกหนี้ค่าภาษี
B7: ประเภทลูกหนี้ | C7: 2561 | H7: 2560
C8: ประจำปี | D8: จำนวนราย | E8: 1 | G8: จำนวนเงิน | H8: ประจำปี | I8: จำนวนราย | J8: จำนวนเงิน | K8: งบกับหมายเหตุใช้ 95%
B9: ลูกหนี้ภาษีโรงเรือนและที่ดิน | C9: 2556 | D9: 1 | G9: 2500 | H9: 2556 | I9: 2 | J9: 3652 | K9: รับรอง ข้อสังเกต 100%
C10: 2557 | D10: 1 | G10: 3690 | H10: 2557 | I10: 2 | J10: 4554
B11: รวม | D11: =SUM(D9:D10) -> 2 | E11: =SUM(E9:E10) -> 0 | G11: =SUM(G9:G10) -> 6190 | I11: =SUM(I9:I10) -> 4 | J11: =SUM(J9:J10) -> 8206
B12: ลูกหนี้ภาษีบำรุงท้องที่ | C12: 0 | D12: 0 | E12: 2539 | F12: 0.95 | G12: 0 | H12: 2551 | I12: 20 | J12: 2412.05
C13: 0 | D13: 0 | E13: 1364.98 | F13: 0.95 | G13: 0 | H13: 2552 | I13: 10 | J13: 1296.73
B14: รวม | E14: =SUM(E12:E13) -> 3903.98 | I14: =SUM(I12:I13) -> 30 | J14: =SUM(J12:J13) -> 3708.78
B15: รวมทั้งสิ้น | D15: =D11+D14 -> 2 | E15: =E11+E14 -> 3903.98 | G15: =G11+G14 -> 6190 | I15: =I11+I14 -> 34 | J15: =J11+J14 -> 11914.78
A21: หมายเหตุ 7 ลูกหนี้รายได้อื่น ๆ
B22: หมายเหตุ 7 ลูกหนี้รายได้อื่น ๆ
G23: 2561 | I23: 2560
B24: ลูกหนี้ค่าน้ำประปา | G24: 27744 | I24: 13574
B25: ลูกหนี้ค่าขยะ | G25: 1030 | I25: 470
B26: รวม | G26: =SUM(G24:G25) -> 28774 | I26: =SUM(I24:I25) -> 14044

Sheet 8ค้างจ่ายกันเงิน60
A1: เทศบาลตำบลอ่าวพะยูน
A2: หมายเหตุประกอบงบแสดงฐานะการเงิน
A3: สำหรับปี สิ้นสุดวันที่ 30 กันยายน 2561
A4: หมายเหตุ 8 รายจ่ายค้างจ่าย
A6: ปี 2561
A7: แหล่งเงิน | B7: แผนงาน | C7: งาน | D7: หมวด | E7: ประเภท | F7: โครงการ | G7: จำนวนเงิน
A8: เงินงบประมาณ | B8: การศึกษา | C8: การศึกษา | D8: ค่าวัสดุ | E8: ค่าอาหารเสริม (นม) | F8: ค่าอาหารเสิม (นม) รร.และศูนย์พัฒนาเด็กเล็ก | G8: 385603.2
A9: เงินงบประมาณ | B9: การศึกษา | C9: การศึกษา | D9: ค่าใช้สอย | E9: รายจ่ายเพื่อให้ได้มาซึ่งบริการ | F9: ค่าหนังสือพิมพ์เดือน กันยายน 2561 | G9: 2100
A10: เงินงบประมาณ | B10: การศึกษา | C10: บริหารทั่วไปเกี่ยวกับการศึกษา | D10: ค่าใช้สอย | E10: รายจ่ายเพื่อให้ได้มาซึ่งบริการ | F10: ค่าจ้างเหมาบริการคนงานทั่วไป 14 คน เดือนกันยายน 2561 | G10: 100000
A11: เงินงบประมาณ | B11: บริหารงานทั่วไป | C11: บริหารงานทั่วไป | D11: ค่าใช้สอย | E11: รายจ่ายเพื่อให้ได้มาซึ่งบริการ | F11: ค่าจ้างเหมาบริการคนงานทั่วไป 5 คน เดือนกันยายน 2561 | G11: 34000
A12: เงินงบประมาณ | B12: บริหารงานทั่วไป | C12: งานบริหารงานคลัง | D12: ค่าใช้สอย | E12: รายจ่ายเพื่อให้ได้มาซึ่งบริการ | F12: ค่าจ้างเหมาบริการคนงานทั่วไป 1 คน เดือนกันยายน 2561 | G12: 8000
A13: เงินงบประมาณ | B13: เคหะและชุมชน | C13: บริหารทั่วไปเกี่ยวกับเคหะและชุมชน | D13: ค่าใช้สอย | E13: รายจ่ายเพื่อให้ได้มาซึ่งบริการ | F13: ค่าจ้างเหมาบริการคนงานทั่วไป 13 คน เดือนกันยายน 2561 | G13: 76500
A14: เงินงบประมาณ | B14: การศึกษา | C14: งานระดับก่อนวัยเรียนและประถมศึกษา | D14: ค่าครุภัณฑ์ | E14: ครุภัณฑ์การศึกษา | F14: เครื่องเล่นเด็ก | G14: 396000
A15: เงินงบประมาณ | B15: การศึกษา | C15: งานระดับก่อนวัยเรียนและประถมศึกษา | D15: ค่าที่ดินและสิ่งก่อสร้าง | E15: อาคารต่าง ๆ | F15: เสาธงโรงเรียนอนุบาลอ่าวพะยูน | G15: 54000
A16: เงินอุดหนุนระบุวัตถุประสงค์/เฉพาะ | B16: อุตสาหกรรมและ | C16: งานก่อสร้างโครงสร้างพื้นฐาน | D16: ค่าที่ดินและสิ่งก่อสร้าง | E16: ค่าก่อสร้างสิ่งสาธารณูปโภค | F16: ก่อสร้างประปาหมู่บ้านแบบบาดาลขนาด 20 ลบ.ม.หมู่ที่ 3 | G16: 788000
A17: กิจ | B17: การโยธา | F17: บ้านบางเตง พร้อมเจาะบ่อผลิตน้ำบาดาล
A18: เงินอุดหนุนระบุวัตถุประสงค์/เฉพาะ | B18: การศึกษา | C18: งานบริหารทั่วไปเกี่ยวกับการศึกษา | D18: ค่าที่ดินและสิ่งก่อสร้าง | E18: อาคารต่าง ๆ | F18: ก่อสร้างอาคารเรียนอนุบาล แบบตอกเสาเข็ม (รหัส สน.ศท. | G18: 4838370
A19: กิจ | F19: อนุบาล8)ตามแบบมาตรฐานของกรมส่งเสริมการปกครองท้องถิ่น
G20: =SUM(G8:G19) -> 6682573.2
A26: เทศบาลตำบลอ่าวพะยูน
A27: หมายเหตุประกอบงบแสดงฐานะการเงิน
A28: สำหรับปี สิ้นสุดวันที่ 30 กันยายน 2561
A30: ปี 2560
A31: แหล่งเงิน | B31: แผนงาน | C31: งาน | D31: หมวด | E31: ประเภท | F31: โครงการ | G31: จำนวนเงิน
A32: เงินงบประมาณ | B32: การศึกษา | C32: การศึกษา | D32: ค่าวัสดุ | E32: ค่าอาหารเสริม (นม) | F32: ค่าอาหารเสิม (นม) รร.และศูนย์พัฒนาเด็กเล็ก | G32: 360610.4
A33: เงินงบประมาณ | B33: การศึกษา | C33: การศึกษา | D33: ค่าใช้สอย | E33: รายจ่ายเพื่อให้ได้มาซึ่งบริการ | F33: ค่าหนังสือพิมพ์เดือน ก.ย. 60 | G33: 2100
A34: เงินงบประมาณ | B34: การศึกษา | C34: บริหารทั่วไปเกี่ยวกับการศึกษา | D34: ค่าใช้สอย | E34: รายจ่ายเพื่อให้ได้มาซึ่งบริการ | F34: ค่าจ้างเหมาบริการประจำเดือน กันยายน 2560 | G34: 77633
A35: เงินงบประมาณ | B35: บริหารงานทั่วไป | C35: บริหารงานทั่วไป | D35: ค่าใช้สอย | E35: รายจ่ายเพื่อให้ได้มาซึ่งบริการ | F35: ค่าจ้างเหมาบริการคนงานทั่วไป 2 คน เดือนกันยายน 2560 | G35: 12000
A36: เงินงบประมาณ | B36: เคหะและชุมชน | C36: บริหารทั่วไปเกี่ยวกับเคหะและชุมชน | D36: ค่าใช้สอย | E36: รายจ่ายเพื่อให้ได้มาซึ่งบริการ | F36: ค่าจ้างเหมาบริการคนงานทั่วไป 12 คน เดือนกันยายน 2560 | G36: 68500
A37: เงินอุดหนุนทั่วไประบุวัตถุประสงค์ | B37: การศึกษา | C37: บริหารทั่วไปเกี่ยวกับการศึกษา | D37: เงินเดือน(ฝ่ายประจำ) | E37: ค่าตอบแทนพนักงานจ้าง | F37: เงินเดือนครูผู้ดูแลเด็ก | G37: 60
A38: เงินอุดหนุนทั่วไประบุวัตถุประสงค์ | B38: งบกลาง | C38: งบกลาง | D38: งบกลาง | E38: เงินสมทบประกันสังคม | F38: เงินประกันสังคม | G38: 6
A40: รวม | G40: =SUM(G32:G39) -> 520909.4

Sheet n.9เงินรับฝาก
B1: เทศบาลตำบลอ่าวพะยูน
B2: หมายเหตุประกอบงบแสดงฐานะการเงิน
B3: สำหรับปี สิ้นสุดวันที่ 30 กันยายน 2561
B5: หมายเหตุ 9 เงินรับฝาก
C7: ='[1]บช. 5.บก'!B31 -> ภาษีหัก ณ ที่จ่าย | D7: 13687.74
C8: ='[1]บช. 5.บก'!B32 -> เงินรับฝากค่าใช้จ่ายในการจัดเก็บภาษีบำรุงท้องที่ 5% | D8: 33687
C9: ='[1]บช. 5.บก'!B33 -> เงินรับฝากประกันสัญญา | D9: 171391
C10: รวม | D10: =SUM(D7:D9) -> 218765.74

Sheet 10เจ้าหนี้เงินกู้
A1: เทศบาลตำบลอ่าวพะยูน
A2: หมายเหตุประกอบงบแสดงฐานะการเงิน
A3: สำหรับปี สิ้นสุดวันที่ 30 กันยายน 2561
A5: หมายเหตุ 10 เจ้าหนี้เงินกู้
A6: ชื่อเจ้าหนี้ | B6: โครงการที่ขอกู้ | C6: จำนวนเงินที่ขอกู้ | D6: สัญญากู้เงิน | F6: เงินต้นค้างชำระ | G6: ปีสิ้นสุดสัญญา
D7: เลขที่ | E7: ลงวันที่
A8: เจ้าหนี้เงินกู้ - ธกส.
A9: เจ้าหนี้เงินกู้ - ธกส. (ปรับปรุงบัญชี) | F9: (970,000.00)
A10: เจ้าหนี้เงินกู้ - ธกส. (ปรับปรุงบัญชี) | F10: 1939898
A11: รวม | F11: 969898
A12: เจ้าหนี้เงินกู้ - ธกส.
A13: เจ้าหนี้เงินกู้ - ธกส. (ปรับปรุงบัญชี) | F13: (969,898.00)
A14: รวม | F14: (969,898.00)
A15: เจ้าหนี้เงินกู้เงินทุนส่งเสริมกิจการเทศบาล
A16: สำนักงานเงินทุนส่งเสริมกิจการเทศบาล | B16: ก่อสร้างรั้วโรงเรียนอนุบาลอ่าวพะยูน | C16: 3270000 | D16: 1828/17/2561 | E16: 274313 | F16: 1569600 | G16: 245350
A17: รวม | C17: =SUM(C16) -> 3270000 | F17: =SUM(F16) -> 1569600
A18: รวมทั้งสิ้น | C18: =SUM(C17) -> 3270000 | F18: =SUM(F17) -> 1569600
A20: ทั้งนี้ องค์กรปกครองส่วนท้องถิ่นมียอดเงินที่ได้รับอนุมัติให้กู้เงินหรือทำสัญญากู้เงินแล้วอยู่ระหว่างการับเงิน จำนวน 0 บาท

Sheet n.11สะสม
A1: เทศบาลตำบลอ่าวพะยูน
A2: หมายเหตุประกอบงบแสดงฐานะการเงิน
A3: สำหรับปี สิ้นสุดวันที่ 30 กันยายน 2561
A4: หมายเหตุ 11 เงินสะสม
F5: 2561 | K5: 2560
A7: เงินสะสม 1 ตุลาคม 2560 | I7: 11544273 | N7: 9779728.9
B8: รับจริงสูงกว่าจ่ายจริง | F8: 1466104.6 | K8: ='[1]บช. 5.บก'!M88 -> 1075476
B9: หัก 25% ของรายรับจริงสูงกว่ารายจ่ายจริง (เงินทุนสำรองเงินสะสม) | F9: 366526.14 | K9: -268869.01
A10: บวก | B10: รายรับจริงสูงกว่ารายจ่ายจริงหลังหักเงินทุนสำรองเงินสะสม | G10: 1099578.4 | L10: =K8+K9 -> 806607.01 | S10: -15884
B11: รับคืนเงินระหว่างปี | G11: 1000 | L11: 70
B12: จ่ายชำระหนี้เงินกู้ | G12: 0 | L12: 969898
A13: หัก | B13: จ่ายขาดเงินสะสม | G13: -2426000 | I13: -1325421.6 | L13: -12031.08 | N13: =SUM(L10:L13) -> 1764543.9
A14: เงินสะสม 30 กันยายน 2561 | I14: 10218851 | N14: =SUM(N7:N13) -> 11544273
P15: ='[1]บช. 5.บก'!S35 -> 11544273 | Q15: =N14-P15 -> 0
A17: เงินสะสม 30 กันยายน 2561 ประกอบด้วย | I17: 2561 | N17: 2560
B18: 1. เงินฝาก ก.ส.ท | I18: 1023555.1 | N18: =[1]งบแสดงฐานะ!J10 -> 944176.77
B19: 2. ลูกหนี้ค่าภาษี | I19: 6190 | N19: ='[1]5,รดค้าง6,7ลูกหนี้ภาษ๊'!G18 -> 11914.781
B20: 3. ลูกหนี้รายได้อื่นๆ | I20: 28774 | N20: ='[1]5,รดค้าง6,7ลูกหนี้ภาษ๊'!G25 -> 14044 | P20: =N18+N19+N20+N21 -> 5754135.6
B21: 3. ทรัพย์สินเกิดจากเงินกู้ที่ชำระหนี้แล้ว(ผลต่างระหว่างทรัพย์สินเกิดจากเงินกู้และเจ้าหนี้เงินกู้) | I21: 4784000 | N21: =[1]ทรัพย์สินเกิดจากเงินกู้!C14 -> 4784000
B22: 4. เงินสะสมที่สามารถนำไปใช้ได้ | I22: 4376332.2 | N22: =N14-P20 -> 5790137.3
I23: =SUM(I18:I22) -> 10218851 | N23: =SUM(N18:N22) -> 11544273
B26: ทั้งนี้ในปีงบประมาณ 2561 ได้รับอนุมัติให้จ่ายเงินสะสมที่อยู่ระหว่างดำเนินการจำนวน 0 บาท
B27: และจะเบิกจ่ายในปีงบประมาณต่อไป ตามรายละเอียดแนบท้ายหมายเหตุ 11
B41: สรุปผลการตรวจสอบ
B42: รายการรายจ่ายค้างจ่ายเหลือจ่ายจำนวน 14,122.43 บาท เจ้าหน้าที่นำไปรวมไว้กับรายการรับคืนเงินเรียกคืน ที่ถูกต้อง
A43: ควรแยกประเภทรายการ แต่ไม่มีผลกระทบต่อเงินสะสม ณ 30 ก.ย. 60
A61: เทศบาลตำบลโคกชะงาย
A62: งบเงินสะสม
A63: ณ วันที่ 30 กันยายน 2556
N64: 7723210.2
A65: เงินสะสม 1 ตุลาคม 2555 | B65: รับจริงสูงกว่าจ่ายจริง | K65: 7094561.5
B66: หัก 25% ของรายรับจริงสูงกว่ารายจ่ายจริง (เงินทุนสำรองเงินสะสม) | K66: -1773640.4
B67: รายรับจริงสูงกว่ารายจ่ายจริงหลังหักเงินทุนสำรองเงินสะสม | L67: 5320921.1
A68: บวก | B68: รายจ่ายเหลือจ่ายค้างจ่าย | L68: 0
B69: รายจ่ายรอจ่ายเหลือจ่าย | L69: 59.9
B70: ค่าใช้จ่ายปีก่อนส่งคืน | L70: 4900.78
B71: ชำระหนี้เงินกู้ | L71: 751845.29
B72: ลูกหนี-ภาษีบำรุงท้องที่สำรวจเพิ่ม
B73: เช็คผู้รับไม่นำไปขึ้นเงิน
B74: ปรับปรุงลูกหนี้-ค่าน้ำประปา | L74: -390 | N74: 6077337.1
...

Sheet 11เจ่ายสำรองเงินสสม
A1: เทศบาลตำบลอ่าวพะยูน
A2: หมายเหตุประกอบงบแสดงฐานะทางการเงิน
A3: สำหรับปี สิ้นสุดวันที่ 30 กันยายน 2561
A5: รายละเอียดแนบท้ายหมายเหตุ 11 เงินสะสม
A6: ปี 2561
A7: หมวด | B7: ประเภท | C7: โครงการ | D7: จำนวนเงินที่ได้รับอนุมัติ | E7: ก่อหนี้ผูกพัน | F7: เบิกจ่ายแล้ว | G7: คงเหลือ | H7: ยังไม่ได้ก่อหนี้
A8: ค่าใช้สอย | B8: รายจ่ายเกี่ยวเนื่องกับการ | C8: ค่าถุงยังชีพ - อาหารแห้ง | D8: 280000 | E8: 280000 | F8: 280000 | G8: =E8-F8 -> 0
B9: ปฏิบัติราชการ ฯ
A11: ค่าใช้สอย | B11: รายจ่ายเกี่ยวเนื่องกับการ | C11: ค่าถุงยังชีพ - ข้าวสาร | D11: 210000 | E11: 210000 | F11: 210000
B12: ปฏิบัติราชการ ฯ
A14: ค่าที่ดินและสิ่งก่อสร้าง | B14: ถนน | C14: โครงการซ่อมสร้าง/ซ่อมแซมผิวทางพาราแอสฟัสท์ติกคอน | D14: 1936000 | E14: 1936000 | F14: 1936000 | G14: 0
C15: กรีต โดยวิธี Pavement In Place Recycling สายบ้านปาก
C16: พะยูน - เชิงสะพานบางมัย หมู่ที่ 1-2 (ช่วงที่ 1)
A17: รวม | D17: =SUM(D8:D16) -> 2426000 | E17: =SUM(E8:E16) -> 2426000 | F17: =SUM(F8:F16) -> 2426000 | G17: =SUM(G8:G16) -> 0
A19: ปี 2560
A20: หมวด | B20: ประเภท | C20: โครงการ | D20: จำนวนเงินที่ได้รับอนุมัติ | E20: ก่อหนี้ผูกพัน | F20: เบิกจ่ายแล้ว | G20: คงเหลือ | H20: ยังไม่ได้ก่อหนี้
A21: เงินเดือน (ฝ่ายประจำ) | B21: เงินเพืมต่างๆ ของพนักงาน | C21: เงินเพิ่มพิเศษสำหรับการสู้รบ (พ.ส.ร) ให้นางอรอุมา ไกรเทพ | D21: 12031.08 | E21: 12031.08 | F21: 12031.08 | G21: =E21-F21 -> 0
C22: ตำแหน่งนักวิชาการศึกษา
C23: ตกเบิกตั้งแต่วันที่ 26 ก.พ. 57 ถึง 30 พ.ย. 58
A25: รวม | D25: =SUM(D21:D24) -> 12031.08 | E25: =SUM(E21:E24) -> 12031.08 | F25: =SUM(F21:F24) -> 12031.08 | G25: =SUM(G21:G24) -> 0

Sheet จ่ายจากรับ
A1: เทศบาลตำบลอ่าวพะยูน
A2: งบแสดงผลการดำเนินงานจ่ายจากเงินรายรับ
A3: ตั้งแต่วันที่ 1 ตุลาคม 2560 ถึง 30 กันยายน 2561
C5: รวมจ่ายจาก | D5: รวมรายจ่ายจากเงิน | F5: บริหารงาน | G5: การรักษา | J5: สังคม | K5: เคหะและ | L5: สร้างความ | M5: การศาสนา | N5: อุตสาหกรรม
A6: รายการ | B6: ประมาณการ | C6: เงินงบประมาณ | D6: อุดหนุนระบุวัตถุประสงค์ | E6: รวม | F6: ทั่วไป | G6: ความ | H6: การศึกษา | I6: สาธารณสุข | J6: สงเคราะห์ | K6: ชุมชน | L6: เข้มแข็ง | M6: และ | N6: และการโยธา | O6: การเกษตร | P6: การพาณิชย์ | Q6: การเกษตร | R6: งบกลาง
D7: /เฉพาะกิจ | G7: สงบภายใน | M7: นันทนาการ
A8: รายจ่าย
A9: งบกลาง | B9: 8964322 | C9: =E9-D9 -> 7847915.9 | E9: =SUM(F9:R9) -> 7847915.9 | R9: 7847915.9
A10: เงินเดือน (ฝ่ายการเมือง) | B10: 2392800 | C10: =E10-D10 -> 2392800 | E10: =SUM(F10:R10) -> 2392800 | F10: 2392800
A11: เงินเดือน (ฝ่ายประจำ) | B11: 13779223 | C11: =E11-D11 -> 10405803 | E11: =SUM(F11:R11) -> 10405803 | F11: 5829180 | H11: 2874540 | K11: 1702082.9
A12: ค่าจ้างชั่วคราว | C12: =E12-D12 -> 0 | E12: =SUM(F12:R12) -> 0
A13: ค่าตอบแทน | B13: 386000 | C13: =E13-D13 -> 323600 | E13: =SUM(F13:R13) -> 323600 | F13: 209160 | H13: 85050 | K13: 29390
A14: ค่าใช้สอย | B14: 11475240 | C14: =E14-D14 -> 7626467.8 | E14: =SUM(F14:R14) -> 7626467.8 | F14: 992555.66 | G14: 122050 | H14: 3627177.1 | I14: 13805 | K14: 2497827 | L14: 72525 | M14: 299988 | Q14: 540
A15: ค่าวัสดุ | B15: 2542715 | C15: =E15-D15 -> 1855991.4 | E15: =SUM(F15:R15) -> 1855991.4 | F15: 467692.8 | H15: 909112.6 | K15: 479186
A16: ค่าสาธารณูปโภค | B16: 1227500 | C16: =E16-D16 -> 1075879.6 | E16: =SUM(F16:R16) -> 1075879.6 | F16: 279593.94 | H16: 139055.52 | K16: 657230.12
A17: รายจ่ายอื่น | C17: =E17-D17 -> 0 | E17: =SUM(F17:R17) -> 0
A18: ค่าครุภัณฑ์ | B18: 971000 | C18: =E18-D18 -> 764600 | E18: =SUM(F18:R18) -> 764600 | F18: 34700 | H18: 720400 | K18: 9500
A19: ค่าที่ดินและสิ่งก่อสร้าง | B19: 2456200 | C19: =E19-D19 -> 1344500 | D19: 9406000 | E19: =SUM(F19:R19) -> 10750500 | H19: 6340000 | N19: 4410500
A20: เงินอุดหนุน | B20: 805000 | C20: =E20-D20 -> 731000 | E20: =SUM(F20:R20) -> 731000 | H20: 611000 | I20: 120000
A21: รวม | B21: =SUM(B9:B20) -> 45000000 | C21: =SUM(C9:C20) -> 34368558 | D21: =SUM(D18:D19) -> 9406000 | E21: =SUM(E9:E20) -> 43774558 | F21: =SUM(F10:F19) -> 10205682 | G21: =SUM(G10:G19) -> 122050 | H21: =SUM(H10:H20) -> 15306335 | I21: =SUM(I10:I19) -> 13805 | J21: =SUM(J10:J19) -> 0 | K21: =SUM(K10:K19) -> 5375216 | L21: =SUM(L10:L19) -> 72525 | M21: =SUM(M10:M19) -> 299988 | N21: =SUM(N10:N19) -> 4410500 | O21: =SUM(O10:O19) -> 0 | P21: =SUM(P10:P19) -> 0 | Q21: =SUM(Q10:Q19) -> 540 | R21: =SUM(R9:R20) -> 7847915.9
A22: รายรับ
A23: ภาษีอากร | B23: 1135500 | C23: 790013.71 | E23: =C23+D22:D23 -> 790013.71
A24: ค่าธรรมเนียม ค่าปรับและใบอนุญาต | B24: 141000 | C24: 149624.8 | E24: =C24+D23:D24 -> 149624.8
A25: รายได้จากทรัพย์สิน | B25: 150000 | C25: 130500.55 | E25: =C25+D24:D25 -> 130500.55
A26: รายได้จากสาธารณูปโภคและการพาณิชย์ | B26: 1100000 | C26: 1192112.7 | E26: =C26+D25:D26 -> 1192112.7
A27: รายได้เบ็ดเตล็ด | B27: 80000 | C27: 114100 | E27: =C27+D26:D27 -> 114100
A28: รายได้จากทุน | B28: 1000 | C28: 0 | E28: =C28+D27:D28 -> 0
A29: รัฐบาลจัดสรรให้ | B29: 15392500 | C29: 14262127 | E29: =C29+D28:D29 -> 14262127
A30: เงินอุดหนุนทั่วไป | B30: 27000000 | C30: 19196183 | E30: =C30+D29:D30 -> 19196183
A31: เงินอุดหนุนทั่วไป ระบุวัตถุประสงค์ | B31: =+[2]รายรับ!D101 -> #REF! | E31: =C31+D30:D31 -> 0
A32: เงินอุดหนุนเฉพาะกิจ | B32: 0 | C32: 0 | D32: 9406000 | E32: =C32+D31:D32 -> 9406000
A33: รวมรายรับ | B33: =B23+B24+B25+B26+B27+B28+B29+B30 -> 45000000 | C33: =SUM(C23:C32) -> 35834662 | D33: =SUM(D32) -> 9406000 | E33: =SUM(E23:E32) -> 45240662
A34: รายรับสูงกว่าหรือ(ต่ำกว่า)รายจ่าย | E34: =+E33-E21 -> 1466104.6
E36: ...................................................... | H36: ........................................................ | M36: ...............................................................
E37: นายกเทศมนตรีตำบลโคกม่วง | H37: ปลัดเทศบาลตำบลโคกม่วง | M37: ผู้อำนวยการกองคลัง
B42: (นางสาวมณินทร ชูมณี) | G42: (นางพนิดา เมฆเฉลิม) | M42: (นางอทิติ เมฆสุวรรณ
B43: ผู้อำนวยการกองคลัง | G43: ปลัดเทศบาลตำบลอ่าวพะยูน | M43: นายกเทศมนตรีตำบลอ่าวพะยูน

Sheet เงินสะสม ทุนสำรอง เงินกู้
A1: เทศบาลตำบลอ่าวพะยูน
A2: งบแสดงผลการดำเนินงานจ่ายจากเงินรายรับ เงินสะสม เงินทุนสำรองเงินสะสมและเงินกู้
A3: ตั้งแต่วันที่ 1 ตุลาคม 2560 ถึง 30 กันยายน 2561
C5: รวมจ่ายจาก | D5: รวมรายจ่ายจากเงิน | E5: รายจ่ายจาก | F5: รายจ่ายจาก | H5: บริหารงาน | I5: การรักษา | L5: สังคม | M5: เคหะและ | N5: สร้างความ | O5: การศาสนา | P5: อุตสาหกรรม
A6: รายการ | B6: ประมาณการ | C6: เงินงบประมาณ | D6: อุดหนุนระบุวัตถุประสงค์ | E6: เงินสะสม | F6: เงินกู้ | G6: รวม | H6: ทั่วไป | I6: ความ | J6: การศึกษา | K6: สาธารณสุข | L6: สงเคราะห์ | M6: ชุมชน | N6: เข้มแข็ง | O6: และ | P6: และการโยธา | Q6: การเกษตร | R6: การพาณิชย์ | S6: การเกษตร | T6: งบกลาง
D7: /เฉพาะกิจ | I7: สงบภายใน | O7: นันทนาการ
A8: รายจ่าย
A9: งบกลาง | B9: 8964322 | C9: =G9-D9 -> 7847915.9 | G9: =SUM(H9:T9) -> 7847915.9 | T9: 7847915.9
A10: เงินเดือน (ฝ่ายการเมือง) | B10: 2392800 | C10: =G10-D10 -> 2392800 | G10: =SUM(H10:T10) -> 2392800 | H10: 2392800
A11: เงินเดือน (ฝ่ายประจำ) | B11: 13779223 | C11: =G11-D11 -> 10405803 | G11: =SUM(H11:T11) -> 10405803 | H11: 5829180 | J11: 2874540 | M11: 1702082.9
A12: ค่าจ้างชั่วคราว | C12: =G12-D12 -> 0 | G12: =SUM(H12:T12) -> 0
A13: ค่าตอบแทน | B13: 386000 | C13: =G13-D13 -> 323600 | G13: =SUM(H13:T13) -> 323600 | H13: 209160 | J13: 85050 | M13: 29390
A14: ค่าใช้สอย | B14: 11475240 | C14: =G14-D14-E14 -> 7626467.8 | E14: 490000 | G14: =SUM(H14:T14) -> 8116467.8 | H14: 992555.66 | I14: 612050 | J14: 3627177.1 | K14: 13805 | M14: 2497827 | N14: 72525 | O14: 299988 | S14: 540
A15: ค่าวัสดุ | B15: 2542715 | C15: =G15-D15 -> 1855991.4 | G15: =SUM(H15:T15) -> 1855991.4 | H15: 467692.8 | J15: 909112.6 | M15: 479186
A16: ค่าสาธารณูปโภค | B16: 1227500 | C16: =G16-D16 -> 1075879.6 | G16: =SUM(H16:T16) -> 1075879.6 | H16: 279593.94 | J16: 139055.52 | M16: 657230.12
A17: รายจ่ายอื่น | C17: =G17-D17 -> 0 | G17: =SUM(H17:T17) -> 0
A18: ค่าครุภัณฑ์ | B18: 971000 | C18: =G18-D18 -> 764600 | G18: =SUM(H18:T18) -> 764600 | H18: 34700 | J18: 720400 | M18: 9500
A19: ค่าที่ดินและสิ่งก่อสร้าง | B19: 2456200 | C19: =G19-D19-E19-F19 -> 1344500 | D19: 9406000 | E19: 1936000 | F19: 1569600 | G19: =SUM(H19:T19) -> 14256100 | J19: 7909600 | P19: 6346500
A20: เงินอุดหนุน | B20: 805000 | C20: =G20-D20 -> 731000 | G20: =SUM(H20:T20) -> 731000 | J20: 611000 | K20: 120000
A21: รวม | B21: =SUM(B9:B20) -> 45000000 | C21: =SUM(C9:C20) -> 34368558 | D21: =SUM(D18:D19) -> 9406000 | E21: =SUM(E9:E20) -> 2426000 | F21: =SUM(F9:F20) -> 1569600 | G21: =SUM(G9:G20) -> 47770158 | H21: =SUM(H10:H19) -> 10205682 | I21: =SUM(I10:I19) -> 612050 | J21: =SUM(J10:J20) -> 16875935 | K21: =SUM(K10:K19) -> 13805 | L21: =SUM(L10:L19) -> 0 | M21: =SUM(M10:M19) -> 5375216 | N21: =SUM(N10:N19) -> 72525 | O21: =SUM(O10:O19) -> 299988 | P21: =SUM(P10:P19) -> 6346500 | Q21: =SUM(Q10:Q19) -> 0 | R21: =SUM(R10:R19) -> 0 | S21: =SUM(S10:S19) -> 540 | T21: =SUM(T9:T20) -> 7847915.9
A22: รายรับ
A23: ภาษีอากร | B23: 1135500 | C23: 790013.71 | G23: =C23+D22:D23 -> 790013.71
A24: ค่าธรรมเนียม ค่าปรับและใบอนุญาต | B24: 141000 | C24: 149624.8 | G24: =C24+D23:D24 -> 149624.8
A25: รายได้จากทรัพย์สิน | B25: 150000 | C25: 130500.55 | G25: =C25+D24:D25 -> 130500.55
A26: รายได้จากสาธารณูปโภคและการพาณิชย์ | B26: 1100000 | C26: 1192112.7 | G26: =C26+D25:D26 -> 1192112.7
A27: รายได้เบ็ดเตล็ด | B27: 80000 | C27: 114100 | G27: =C27+D26:D27 -> 114100
A28: รายได้จากทุน | B28: 1000 | G28: =C28+D27:D28 -> 0
A29: รัฐบาลจัดสรรให้ | B29: 15392500 | C29: 14262127 | G29: =C29+D28:D29 -> 14262127
A30: เงินอุดหนุนทั่วไป | B30: 27000000 | C30: 19196183 | G30: =C30+D29:D30 -> 19196183
A31: เงินอุดหนุนทั่วไป ระบุวัตถุประสงค์ | B31: =+[2]รายรับ!D101 -> #REF! | G31: =C31+D30:D31 -> 0
A32: เงินอุดหนุนเฉพาะกิจ | D32: 9406000 | G32: =C32+D31:D32 -> 9406000
A33: รวมรายรับ | B33: =B23+B24+B25+B26+B27+B28+B29+B30 -> 45000000 | C33: =SUM(C23:C32) -> 35834662 | D33: =SUM(D32) -> 9406000 | E33: =SUM(E23:E32) -> 0 | F33: =SUM(F23:F32) -> 0 | G33: =SUM(G23:G32) -> 45240662
A34: รายรับสูงกว่าหรือ(ต่ำกว่า)รายจ่าย | G34: =+G33-G21 -> -2529495.4
G36: ...................................................... | J36: ........................................................ | O36: ...............................................................
G37: นายกเทศมนตรีตำบลโคกม่วง | J37: ปลัดเทศบาลตำบลโคกม่วง | O37: ผู้อำนวยการกองคลัง
B43: (นางสาวมณินทร ชูมณี) | G43: (นางพนิดา เมฆเฉลิม) | M43: (นางอทิติ เมฆสุวรรณ
B44: ผู้อำนวยการกองคลัง | G44: ปลัดเทศบาลตำบลอ่าวพะยูน | M44: นายกเทศมนตรีตำบลอ่าวพะยูน
